BEGIN:VCALENDAR
PRODID:-//eluceo/ical//2.0/EN
VERSION:2.0
CALSCALE:GREGORIAN
BEGIN:VEVENT
UID:f6cb4bfd22db6605096599305a24c13e
DTSTAMP:20260424T010805Z
SUMMARY:Europäischer Datenschutztag am 28. Januar
DESCRIPTION:Anonymisierung und Pseudonymisierung - Risiken mindern\, Daten 
 nutzen?\nDieser Tag steht ganz im Zeichen der Sensibilisierung für das Th
 ema Datenschutz: Der Europäische Datenschutztag nimmt Bezug auf den 28. J
 anuar 1981\, an dem die Europäische Datenschutzkonvention unterzeichnet w
 urde.\nGanz im Sinne des diesjährigen Themas: „Anonymisierung und Pseud
 onymisierung – Risiken mindern\, Daten nutzen?“
URL:https://www.rockenstein.de/we-get-it-online/termine/termine-details/eur
 opaeischer-datenschutztag.html
DTSTART:20260128T000000
DTEND:20260128T235959
LOCATION:Anonymisierung und Pseudonymisierung - Risiken mindern\, Daten nut
 zen?
END:VEVENT
BEGIN:VTIMEZONE
TZID:Europe/Berlin
BEGIN:STANDARD
DTSTART:20260128T000000
TZNAME:CET
TZOFFSETTO:+0100
TZOFFSETFROM:+0100
END:STANDARD
END:VTIMEZONE
END:VCALENDAR
