BEGIN:VCALENDAR
PRODID:-//eluceo/ical//2.0/EN
VERSION:2.0
CALSCALE:GREGORIAN
BEGIN:VEVENT
UID:8785b8912737af60afe3af84540f7118
DTSTAMP:20260424T122609Z
SUMMARY:Tag der Arbeit - Feiertag am 1. Mai 2026
DESCRIPTION:Am Tag der Arbeit ist unser Büro nicht besetzt. Sie erreichen 
 uns am Montag\, 04.05.2026\, ab 8 Uhr wieder.\nDie Erreichbarkeit außerha
 lb unserer Geschäftszeiten entnehmen Sie bitte Ihrem SLA-Vertrag.\nWir w
 ünschen Ihnen einen schönen Feiertag!
URL:https://www.rockenstein.de/we-get-it-online/termine/termine-details/tag
 -der-arbeit-feiertag-am-1-mai-2026.html
DTSTART:20260501T000000
DTEND:20260501T235959
LOCATION:
END:VEVENT
BEGIN:VTIMEZONE
TZID:Europe/Berlin
BEGIN:DAYLIGHT
DTSTART:20260501T000000
TZNAME:CEST
TZOFFSETTO:+0200
TZOFFSETFROM:+0200
END:DAYLIGHT
END:VTIMEZONE
END:VCALENDAR
