BEGIN:VCALENDAR
PRODID:-//eluceo/ical//2.0/EN
VERSION:2.0
CALSCALE:GREGORIAN
BEGIN:VEVENT
UID:cf533007cdd065986bd88b0c3632107e
DTSTAMP:20260424T123239Z
SUMMARY:WYSIWYG - Randnotizen des Urbanen
DESCRIPTION:\nDie Ausstellung WYISWYG ist am Montag\, 27. April 2026 von 17
  bis 20 Uhr geöffnet.\n
URL:https://www.rockenstein.de/we-get-it-online/termine/termine-details/wys
 iwyg-randnotizen-des-urbanen-2.html
DTSTART:20260427T000000
DTEND:20260427T235959
LOCATION:Schleehofstr. 16 - 97209 Veitshöchheim
END:VEVENT
BEGIN:VTIMEZONE
TZID:Europe/Berlin
BEGIN:DAYLIGHT
DTSTART:20260427T000000
TZNAME:CEST
TZOFFSETTO:+0200
TZOFFSETFROM:+0200
END:DAYLIGHT
END:VTIMEZONE
END:VCALENDAR
